BEGIN:VCALENDAR
VERSION:2.0
METHOD:PUBLISH
PRODID:-//Agenda.ad//NONSGML v1.0//EN
BEGIN:VEVENT
CLASS:PUBLIC
UID:ac84465615403adfd1d573ef881475a3@agenda.ad
DTSTAMP:20260424T092848Z
DTSTART:20191212T230000Z
DTEND:20191213T230000Z
SUMMARY:<strong>Pessebre vivent</strong>
DESCRIPTION:\n\nMés informació\nhttps://www.agenda.ad/activitat/escald
 es-engordany/teatre-i-dansa/pessebre-vivent \n\n\nOrganitza
 \nComú d'Escaldes-Engordany
LOCATION:Diferents indrets de la parròquia
SEQUENCE:0
TRANSP:OPAQUE
X-ALT-DESC;FMTTYPE=text/html:<!DOCTYPE HTML PUBLIC "-//W3C//DTD HTML 3.2//EN"><HTML><HEAD
 ><TITLE></TITLE></HEAD><BODY><FONT FACE="Arial" SIZE=2><br/>
 <br/><b>Més informació</b><br/><a href="https://www.agenda
 .ad/activitat/escaldes-engordany/teatre-i-dansa/pessebre-viv
 ent ">https://www.agenda.ad/activitat/escaldes-engordany/te
 atre-i-dansa/pessebre-vivent </a><br/><br/><br/><b>Organitz
 a</b><br/>Comú d'Escaldes-Engordany</FONT></BODY></HTML>
END:VEVENT
END:VCALENDAR